BEGIN:VCALENDAR
VERSION:2.0
PRODID:-//Tukios.com/
BEGIN:VEVENT
UID:b6078648-b51a-4a16-90f1-0a72e8427cc3@www.amosfamily.com
DTSTAMP:20260424T194109Z
DTSTART:20260509T211500Z
DTEND:20260509T230000Z
SUMMARY:Celebration of Life
DESCRIPTION:
URL:https://www.amosfamily.com/obituaries/noah-mandosia-madison-gomez-hines
LOCATION:Lenexa Old Town Activity Center – Haskins Room 12350 West 87th 
	Street Parkway  Lenexa KS 66215
GEO:38.9723557;-94.72941
END:VEVENT
END:VCALENDAR