BEGIN:VCALENDAR
VERSION:2.0
PRODID:-//Tukios.com/
BEGIN:VEVENT
UID:112f8555-fb56-4c72-9c4e-6374727add58@www.amosfamily.com
DTSTAMP:20260424T161900Z
DTSTART:20260506T160000Z
DTEND:20260506T170000Z
SUMMARY:Funeral Service
DESCRIPTION:
URL:https://www.amosfamily.com/obituaries/joann-hootz
LOCATION:Good Shepherd Catholic Church  12800 West 75th Street  Shawnee 
	KS 66216
GEO:38.9935983;-94.7342527
END:VEVENT
END:VCALENDAR