BEGIN:VCALENDAR
VERSION:2.0
PRODID:-//Tukios.com/
BEGIN:VEVENT
UID:03d042a1-19f0-46d9-83fd-6ceb3bf2f1ac@www.amosfamily.com
DTSTAMP:20260424T161217Z
DTSTART:20260506T150000Z
DTEND:20260506T160000Z
SUMMARY:Visitation
DESCRIPTION:
URL:https://www.amosfamily.com/obituaries/joann-hootz
LOCATION:Good Shepherd Catholic Church  12800 West 75th Street  Shawnee 
	KS 66216
GEO:38.9935983;-94.7342527
END:VEVENT
END:VCALENDAR